BEGIN:VCALENDAR
VERSION:2.0
PRODID:-//Sequim Wheelers - ECPv6.15.17.1//NONSGML v1.0//EN
CALSCALE:GREGORIAN
METHOD:PUBLISH
X-WR-CALNAME:Sequim Wheelers
X-ORIGINAL-URL:https://sequimwheelers.com
X-WR-CALDESC:Events for Sequim Wheelers
REFRESH-INTERVAL;VALUE=DURATION:PT1H
X-Robots-Tag:noindex
X-PUBLISHED-TTL:PT1H
BEGIN:VTIMEZONE
TZID:America/Los_Angeles
BEGIN:DAYLIGHT
TZOFFSETFROM:-0800
TZOFFSETTO:-0700
TZNAME:PDT
DTSTART:20250309T100000
END:DAYLIGHT
BEGIN:STANDARD
TZOFFSETFROM:-0700
TZOFFSETTO:-0800
TZNAME:PST
DTSTART:20251102T090000
END:STANDARD
BEGIN:DAYLIGHT
TZOFFSETFROM:-0800
TZOFFSETTO:-0700
TZNAME:PDT
DTSTART:20260308T100000
END:DAYLIGHT
BEGIN:STANDARD
TZOFFSETFROM:-0700
TZOFFSETTO:-0800
TZNAME:PST
DTSTART:20261101T090000
END:STANDARD
BEGIN:DAYLIGHT
TZOFFSETFROM:-0800
TZOFFSETTO:-0700
TZNAME:PDT
DTSTART:20270314T100000
END:DAYLIGHT
BEGIN:STANDARD
TZOFFSETFROM:-0700
TZOFFSETTO:-0800
TZNAME:PST
DTSTART:20271107T090000
END:STANDARD
END:VTIMEZONE
BEGIN:VEVENT
DTSTART;TZID=America/Los_Angeles:20260418T110000
DTEND;TZID=America/Los_Angeles:20260418T123000
DTSTAMP:20260424T020314
CREATED:20260217T225915Z
LAST-MODIFIED:20260414T224453Z
UID:608-1776510000-1776515400@sequimwheelers.com
SUMMARY:Springtime Orientation Meeting For Our New Volunteers - click for more information
DESCRIPTION:Our Spring Orientation for new volunteers will be held on Saturday April 18 from 11 am to 12:30 pm.  This meeting will share important information about the Sequim Wheeler Program. We are meeting in the Sunshine room at the KSQM offices which are located in Old JC Pennys mall at 609 W Washington.  All are welcome!
URL:https://sequimwheelers.com/event/springtime-orientation-meeting/
ATTACH;FMTTYPE=image/jpeg:https://sequimwheelers.com/wp-content/uploads/2026/03/important-2508605_150-2508605.jpg
END:VEVENT
END:VCALENDAR